BEGIN:VCALENDAR
VERSION:2.0
PRODID:-//ChamberMaster//Event Calendar 2.0//EN
METHOD:PUBLISH
X-PUBLISHED-TTL:P3D
REFRESH-INTERVAL:P3D
CALSCALE:GREGORIAN
BEGIN:VEVENT
DTSTART:20230710T150000Z
DTEND:20230710T180000Z
X-MICROSOFT-CDO-ALLDAYEVENT:FALSE
SUMMARY:Summer Health Fair
DESCRIPTION:Summer Health Fair\n\n10:00AM to 1:00PM\n\nSnacks\, Education\, Blood Pressure Check\, & Door Prizes!
X-ALT-DESC;FMTTYPE=text/html:Summer Health Fair<br />\n10:00AM to 1:00PM<br />\nSnacks\, Education\, Blood Pressure Check\, &amp\; Door Prizes!<br />\n&nbsp\;
LOCATION:Aransas Pass Civic Center 700 W Wheeler Ave Aransas Pass TX 78336
UID:e.1295.7886
SEQUENCE:3
DTSTAMP:20260421T114100Z
URL:https://business.aransaspass.org/events/details/summer-health-fair-7886
END:VEVENT

END:VCALENDAR
